BEGIN:VCALENDAR
VERSION:2.0
PRODID:-//Communication éditoriale - Valérie BOUET - La Plume Ancrée - ECPv6.15.20//NONSGML v1.0//EN
CALSCALE:GREGORIAN
METHOD:PUBLISH
X-ORIGINAL-URL:https://valerie-bouet.fr
X-WR-CALDESC:Évènements pour Communication éditoriale - Valérie BOUET - La Plume Ancrée
REFRESH-INTERVAL;VALUE=DURATION:PT1H
X-Robots-Tag:noindex
X-PUBLISHED-TTL:PT1H
BEGIN:VTIMEZONE
TZID:Europe/Paris
BEGIN:DAYLIGHT
TZOFFSETFROM:+0100
TZOFFSETTO:+0200
TZNAME:CEST
DTSTART:20250330T010000
END:DAYLIGHT
BEGIN:STANDARD
TZOFFSETFROM:+0200
TZOFFSETTO:+0100
TZNAME:CET
DTSTART:20251026T010000
END:STANDARD
BEGIN:DAYLIGHT
TZOFFSETFROM:+0100
TZOFFSETTO:+0200
TZNAME:CEST
DTSTART:20260329T010000
END:DAYLIGHT
BEGIN:STANDARD
TZOFFSETFROM:+0200
TZOFFSETTO:+0100
TZNAME:CET
DTSTART:20261025T010000
END:STANDARD
BEGIN:DAYLIGHT
TZOFFSETFROM:+0100
TZOFFSETTO:+0200
TZNAME:CEST
DTSTART:20270328T010000
END:DAYLIGHT
BEGIN:STANDARD
TZOFFSETFROM:+0200
TZOFFSETTO:+0100
TZNAME:CET
DTSTART:20271031T010000
END:STANDARD
END:VTIMEZONE
BEGIN:VEVENT
DTSTART;TZID=Europe/Paris:20260429T143000
DTEND;TZID=Europe/Paris:20260429T163000
DTSTAMP:20260425T003554
CREATED:20260423T194151Z
LAST-MODIFIED:20260423T200225Z
UID:6043-1777473000-1777480200@valerie-bouet.fr
SUMMARY:L'art de noyer le poisson
DESCRIPTION:✨ L’art de noyer le poisson — Atelier d’écriture \nAtelier duo parent/enfant à partir de 8 ans ou adulte\, en collaboration avec Pierre de La corneille dorée pour 2 heures d’écriture et improvisation autour de la cachotterie… \nExpression libre\, rire et intrigue garantis ! \n 
URL:https://valerie-bouet.fr/event/lart-de-noyer-le-poisson/
CATEGORIES:Atelier d'écriture vendredi après-midi
ATTACH;FMTTYPE=image/jpeg:https://valerie-bouet.fr/wp-content/uploads/2026/04/parent-enfant-1.jpg
END:VEVENT
END:VCALENDAR